Workbook

Sheet Bets
A1: Date | B1: Match | C1: Market | D1: Selection | E1: Bookmaker | F1: Your odds | G1: Stake | H1: Fair odds when you bet | I1: Fair closing odds | J1: Result (W/L/P/HW/HL) | K1: Profit | L1: EV % | M1: CLV %
A2: 2026-10-18 | B2: Example FC – Sample United | C2: 1X2 · Match | D2: Example FC | E2: Bookmaker A | F2: 2.2 | G2: 1 | H2: 2.05 | I2: 1.98 | J2: W | K2: =IF(J2="W",G2*(F2-1),IF(J2="L",-G2,IF(J2="HW",G2*(F2-1)/2,IF(J2="HL",-G2/2,IF(J2="P",0,""))))) | L2: =IF(AND(F2>1,H2>1),F2/H2-1,"") | M2: =IF(AND(F2>1,I2>1),F2/I2-1,"")
A3: 2026-10-18 | B3: Player A – Player B | C3: Winner · Match | D3: Player B | E3: Bookmaker B | F3: 1.95 | G3: 1 | H3: 1.9 | I3: 1.93 | J3: L | K3: =IF(J3="W",G3*(F3-1),IF(J3="L",-G3,IF(J3="HW",G3*(F3-1)/2,IF(J3="HL",-G3/2,IF(J3="P",0,""))))) | L3: =IF(AND(F3>1,H3>1),F3/H3-1,"") | M3: =IF(AND(F3>1,I3>1),F3/I3-1,"")
A4: 2026-10-19 | B4: Sample City – Demo Town | C4: Asian handicap −0.25 · Match | D4: Sample City | E4: Bookmaker A | F4: 2.1 | G4: 1 | H4: 2 | I4: 1.96 | J4: HL | K4: =IF(J4="W",G4*(F4-1),IF(J4="L",-G4,IF(J4="HW",G4*(F4-1)/2,IF(J4="HL",-G4/2,IF(J4="P",0,""))))) | L4: =IF(AND(F4>1,H4>1),F4/H4-1,"") | M4: =IF(AND(F4>1,I4>1),F4/I4-1,"")
K5: =IF(J5="W",G5*(F5-1),IF(J5="L",-G5,IF(J5="HW",G5*(F5-1)/2,IF(J5="HL",-G5/2,IF(J5="P",0,""))))) | L5: =IF(AND(F5>1,H5>1),F5/H5-1,"") | M5: =IF(AND(F5>1,I5>1),F5/I5-1,"")
K6: =IF(J6="W",G6*(F6-1),IF(J6="L",-G6,IF(J6="HW",G6*(F6-1)/2,IF(J6="HL",-G6/2,IF(J6="P",0,""))))) | L6: =IF(AND(F6>1,H6>1),F6/H6-1,"") | M6: =IF(AND(F6>1,I6>1),F6/I6-1,"")
K7: =IF(J7="W",G7*(F7-1),IF(J7="L",-G7,IF(J7="HW",G7*(F7-1)/2,IF(J7="HL",-G7/2,IF(J7="P",0,""))))) | L7: =IF(AND(F7>1,H7>1),F7/H7-1,"") | M7: =IF(AND(F7>1,I7>1),F7/I7-1,"")
K8: =IF(J8="W",G8*(F8-1),IF(J8="L",-G8,IF(J8="HW",G8*(F8-1)/2,IF(J8="HL",-G8/2,IF(J8="P",0,""))))) | L8: =IF(AND(F8>1,H8>1),F8/H8-1,"") | M8: =IF(AND(F8>1,I8>1),F8/I8-1,"")
K9: =IF(J9="W",G9*(F9-1),IF(J9="L",-G9,IF(J9="HW",G9*(F9-1)/2,IF(J9="HL",-G9/2,IF(J9="P",0,""))))) | L9: =IF(AND(F9>1,H9>1),F9/H9-1,"") | M9: =IF(AND(F9>1,I9>1),F9/I9-1,"")
K10: =IF(J10="W",G10*(F10-1),IF(J10="L",-G10,IF(J10="HW",G10*(F10-1)/2,IF(J10="HL",-G10/2,IF(J10="P",0,""))))) | L10: =IF(AND(F10>1,H10>1),F10/H10-1,"") | M10: =IF(AND(F10>1,I10>1),F10/I10-1,"")
K11: =IF(J11="W",G11*(F11-1),IF(J11="L",-G11,IF(J11="HW",G11*(F11-1)/2,IF(J11="HL",-G11/2,IF(J11="P",0,""))))) | L11: =IF(AND(F11>1,H11>1),F11/H11-1,"") | M11: =IF(AND(F11>1,I11>1),F11/I11-1,"")
K12: =IF(J12="W",G12*(F12-1),IF(J12="L",-G12,IF(J12="HW",G12*(F12-1)/2,IF(J12="HL",-G12/2,IF(J12="P",0,""))))) | L12: =IF(AND(F12>1,H12>1),F12/H12-1,"") | M12: =IF(AND(F12>1,I12>1),F12/I12-1,"")
K13: =IF(J13="W",G13*(F13-1),IF(J13="L",-G13,IF(J13="HW",G13*(F13-1)/2,IF(J13="HL",-G13/2,IF(J13="P",0,""))))) | L13: =IF(AND(F13>1,H13>1),F13/H13-1,"") | M13: =IF(AND(F13>1,I13>1),F13/I13-1,"")
K14: =IF(J14="W",G14*(F14-1),IF(J14="L",-G14,IF(J14="HW",G14*(F14-1)/2,IF(J14="HL",-G14/2,IF(J14="P",0,""))))) | L14: =IF(AND(F14>1,H14>1),F14/H14-1,"") | M14: =IF(AND(F14>1,I14>1),F14/I14-1,"")
K15: =IF(J15="W",G15*(F15-1),IF(J15="L",-G15,IF(J15="HW",G15*(F15-1)/2,IF(J15="HL",-G15/2,IF(J15="P",0,""))))) | L15: =IF(AND(F15>1,H15>1),F15/H15-1,"") | M15: =IF(AND(F15>1,I15>1),F15/I15-1,"")
K16: =IF(J16="W",G16*(F16-1),IF(J16="L",-G16,IF(J16="HW",G16*(F16-1)/2,IF(J16="HL",-G16/2,IF(J16="P",0,""))))) | L16: =IF(AND(F16>1,H16>1),F16/H16-1,"") | M16: =IF(AND(F16>1,I16>1),F16/I16-1,"")
... K501: =IF(J501="W",G501*(F501-1),IF(J501="L",-G501,IF(J501="HW",G501*(F501-1)/2,IF(J501="HL",-G501/2,IF(J501="P",0,""))))) | L501: =IF(AND(F501>1,H501>1),F501/H501-1,"") | M501: =IF(AND(F501>1,I501>1),F501/I501-1,"")

Sheet Summary
A1: Settled bets | B1: =COUNTIF(Bets!J2:J501,"?*")
A2: Total staked | B2: =SUMIF(Bets!J2:J501,"?*",Bets!G2:G501)
A3: Profit (units) | B3: =SUM(Bets!K2:K501)
A4: ROI | B4: =IF(B3>0,B4/B3,"")
A5: Average EV | B5: =IFERROR(AVERAGE(Bets!L2:L501),"")
A6: Average CLV | B6: =IFERROR(AVERAGE(Bets!M2:M501),"")
A7: Bets that beat the close | B7: =COUNTIF(Bets!M2:M501,">0")
A9: Result codes: W win, L loss, P push, HW half win, HL half loss (Asian handicap).
A10: EV % compares your odds with the fair odds when you bet; CLV % with the fair closing odds. Get fair odds at betthedrop.com/no-vig-calculator
A11: Bet only what you can afford to lose. 18+.
